BEGIN:VCALENDAR
VERSION:2.0
PRODID:-//Kulturhaus Aue - ECPv6.15.20//NONSGML v1.0//EN
CALSCALE:GREGORIAN
METHOD:PUBLISH
X-WR-CALNAME:Kulturhaus Aue
X-ORIGINAL-URL:https://www.kulturhausaue.de
X-WR-CALDESC:Veranstaltungen für Kulturhaus Aue
REFRESH-INTERVAL;VALUE=DURATION:PT1H
X-Robots-Tag:noindex
X-PUBLISHED-TTL:PT1H
BEGIN:VTIMEZONE
TZID:Europe/Berlin
BEGIN:DAYLIGHT
TZOFFSETFROM:+0100
TZOFFSETTO:+0200
TZNAME:CEST
DTSTART:20260329T010000
END:DAYLIGHT
BEGIN:STANDARD
TZOFFSETFROM:+0200
TZOFFSETTO:+0100
TZNAME:CET
DTSTART:20261025T010000
END:STANDARD
BEGIN:DAYLIGHT
TZOFFSETFROM:+0100
TZOFFSETTO:+0200
TZNAME:CEST
DTSTART:20270328T010000
END:DAYLIGHT
BEGIN:STANDARD
TZOFFSETFROM:+0200
TZOFFSETTO:+0100
TZNAME:CET
DTSTART:20271031T010000
END:STANDARD
BEGIN:DAYLIGHT
TZOFFSETFROM:+0100
TZOFFSETTO:+0200
TZNAME:CEST
DTSTART:20280326T010000
END:DAYLIGHT
BEGIN:STANDARD
TZOFFSETFROM:+0200
TZOFFSETTO:+0100
TZNAME:CET
DTSTART:20281029T010000
END:STANDARD
END:VTIMEZONE
BEGIN:VEVENT
DTSTART;TZID=Europe/Berlin:20270528T193000
DTEND;TZID=Europe/Berlin:20270528T193000
DTSTAMP:20260420T152749
CREATED:20260415T085125Z
LAST-MODIFIED:20260415T094823Z
UID:10000301-1811532600-1811532600@www.kulturhausaue.de
SUMMARY:4. Auer Lachnacht
DESCRIPTION:Ole Lehmann präsentiert: 4. Auer Lachnacht\nmit Fatih Çevikkollu\, Michael Eller\, Anny Hartmann und Thomas Nicolai \nAm 28. Mai 2027 wird wieder gelacht in Aue! Es wartet ein fantastischer Mix aus Kabarett und Comedy auf Sie! \nTickets in Kürze erhältlich!
URL:https://www.kulturhausaue.de/event/4-auer-lachnacht/
LOCATION:Kulturhaus Aue\, Goethestr. 2\, Aue-Bad Schlema\, 08280\, Deutschland
CATEGORIES:Comedy, Kabarett
ATTACH;FMTTYPE=image/jpeg:https://www.kulturhausaue.de/inhalde/uploads/2023/03/Ole-Lehmann_Lachnacht_klein-scaled.jpg
END:VEVENT
END:VCALENDAR