BEGIN:VCALENDAR
VERSION:2.0
PRODID:-//Kulturhaus Aue - ECPv6.15.20//NONSGML v1.0//EN
CALSCALE:GREGORIAN
METHOD:PUBLISH
X-WR-CALNAME:Kulturhaus Aue
X-ORIGINAL-URL:https://www.kulturhausaue.de
X-WR-CALDESC:Veranstaltungen für Kulturhaus Aue
REFRESH-INTERVAL;VALUE=DURATION:PT1H
X-Robots-Tag:noindex
X-PUBLISHED-TTL:PT1H
BEGIN:VTIMEZONE
TZID:Europe/Berlin
BEGIN:DAYLIGHT
TZOFFSETFROM:+0100
TZOFFSETTO:+0200
TZNAME:CEST
DTSTART:20240331T010000
END:DAYLIGHT
BEGIN:STANDARD
TZOFFSETFROM:+0200
TZOFFSETTO:+0100
TZNAME:CET
DTSTART:20241027T010000
END:STANDARD
BEGIN:DAYLIGHT
TZOFFSETFROM:+0100
TZOFFSETTO:+0200
TZNAME:CEST
DTSTART:20250330T010000
END:DAYLIGHT
BEGIN:STANDARD
TZOFFSETFROM:+0200
TZOFFSETTO:+0100
TZNAME:CET
DTSTART:20251026T010000
END:STANDARD
BEGIN:DAYLIGHT
TZOFFSETFROM:+0100
TZOFFSETTO:+0200
TZNAME:CEST
DTSTART:20260329T010000
END:DAYLIGHT
BEGIN:STANDARD
TZOFFSETFROM:+0200
TZOFFSETTO:+0100
TZNAME:CET
DTSTART:20261025T010000
END:STANDARD
END:VTIMEZONE
BEGIN:VEVENT
DTSTART;TZID=Europe/Berlin:20250318T190000
DTEND;TZID=Europe/Berlin:20250318T190000
DTSTAMP:20260420T221138
CREATED:20250215T091937Z
LAST-MODIFIED:20250215T092035Z
UID:10000258-1742324400-1742324400@www.kulturhausaue.de
SUMMARY:80 Jahre Kriegsende
DESCRIPTION:Roman Knižka & OPUS 45 \nMusikalische Lesung anlässlich 80 Jahre Kriegsende \nIn einer Verknüpfung zwischen Lesung\, Konzert und Theater versetzen sich Roman Knižka und das Bläserquintett OPUS 45 in ihrem neuen Programm zurück in die frühe Nachkriegszeit der Jahre 1945 bis 1949. „Dass ein gutes Deutschland blühe …“ – Leben nach Kriegsende 1945-1949 erinnert an die verheerenden Folgen des Zweiten Weltkriegs und der NS-Diktatur. Ausgehend von der epochalen Zäsur des Jahres 1945 beleuchten Roman Knižka und OPUS 45 eine ambivalente und spannungsreiche Übergangszeit zwischen Zerstörung und Neubeginn mit regionalen Bezügen zum Westerzgebirge. \nDas Bläserquintett\, bestehend u. a. aus Musikern der Hamburgischen Staatsoper\, Beethoven Orchester Bonn\, NDR Radiophilharmonie Hannover und BBC Symphony Orchestra Glasgow und beschreitet seit einiger Zeit gemeinsam mit dem Schauspieler Roman Knižka neue\, disziplinübergreifende Wege. Texte u.a. von Bertolt Brecht\, Wolfgang Borchert\, Margaret Bourke-White\, und Musik von Ludwig van Beethoven\, Hanns Eisler und Richard Strauss laden zum nachdenken\, genießen und mitfühlen ein. \nEintrittskarten sind zu einem Unkostenbeitrag von 5 € an folgendem Ort erhältlich:\nKGE e.V. Offener Bürgertreff (ehemaliges Café Temper)\, Bahnhofstraße 13\, 08280 Aue-Bad Schlema\nReservierung möglich unter: E-Mail: f.sell@kge-erzgebirge.de\, Tel.: 03771 1238133 \n 
URL:https://www.kulturhausaue.de/event/80-jahre-kriegsende/
LOCATION:Kulturhaus Aue\, Goethestr. 2\, Aue-Bad Schlema\, 08280\, Deutschland
CATEGORIES:Klassik,Konzert,Lesungen, Vorträge,Sonstiges
ATTACH;FMTTYPE=image/jpeg:https://www.kulturhausaue.de/inhalde/uploads/2025/02/Opus45_Web.jpg
END:VEVENT
BEGIN:VEVENT
DTSTART;TZID=Europe/Berlin:20250319T160000
DTEND;TZID=Europe/Berlin:20250319T160000
DTSTAMP:20260420T221138
CREATED:20231024T115732Z
LAST-MODIFIED:20241104T075802Z
UID:10000195-1742400000-1742400000@www.kulturhausaue.de
SUMMARY:„Hänsel und Gretel”
DESCRIPTION:Doncalli Theater präsentiert “Hänsel & Gretel” \nDas Thüringer Kindertheater „Doncalli“ kommt aufgrund großer Nachfrage auch im Jahr 2025 nach Aue. In diesem Jahr zeigen wir den Märchenklassiker der Brüder Grimm „Hänsel & Gretel“.\nVor märchenhafter Kulisse wird das Märchen in originalgetreuen Kostümen von Schauspielern dargestellt. \nDas Märchenspiel ist für Kinder ab 2 Jahren geeignet und dauert ca. 75 Minuten.  \n„Hänsel und Gretel“ von den Gebrüdern Grimm ist wohl eines der bekanntesten deutschen Märchen. Bekommst du die Geschichte der Geschwister Hänsel und Gretel noch zusammen?\nHänsel und Gretel werden von ihren Eltern in den tiefen Wald geführt und dort gelassen\, weil die Holzhackerfamilie sehr arm ist und ihre Kinder nicht mehr ernähren kann. Beim Umherirren im Wald treffen Hänsel und Gretel auf ein Haus\, das ganz und gar aus Keksen\, Kuchen und Zuckerzeug gebaut ist. Die Kinder stillen ihren Hunger an dem Haus. Eine alte fast blinde Hexe wohnt in dem Haus und fängt die Kinder ein. Gretel muss den Haushalt machen und Hänsel wird in einen Käfig gesperrt. Die Hexe will ihn mästen\, um ihn später zu braten und zu verspeisen. Die Hexe befühlt täglich die Hand des Jungen\, um herauszubekommen\, ob er schon dick genug ist. Hänsel aber hält immer ein Stöckchen hin. Die Hexe wundert sich\, dass der Junge nicht dicker wird. Als sie die Geduld verliert\, lässt sie von Gretel den Ofen anheizen. Gretel soll in den Ofen kriechen\, um zu schauen\, ob er schon heiß genug ist. Aber Gretel gibt vor das nicht zu können. Als die Hexe ihr zeigt\, wie man in den Ofen kriecht\, gibt Gretel ihr einen Schubs und die Hexe fällt in den Ofen. Die Kinder machen sich auf den Weg nach Hause und nehmen die Goldschätze aus dem Hexenhaus mit. Eine Ente trägt sie über das Wasser. Sie kommen nach Hause und haben von nun an wegen der Goldschätze ein auskömmliches Leben. \nBeginn: 16.00 Uhr\nEinlass: 15:30 Uhr\nPause: ca. 10 Minuten \nEintrittspreise:\nVorverkauf:   Kinder 13\,- €; Erwachsene 15\,- €\nTageskasse: Kinder 14\,- €; Erwachsene 16\,- €\nKarten ab sofort im VVK im Kulturhaus sowie am Gastspieltag ab 30 Minuten vor Beginn im Veranstaltungssaal erhältlich.
URL:https://www.kulturhausaue.de/event/haensel-und-gretel/
LOCATION:Kulturhaus Aue\, Goethestr. 2\, Aue-Bad Schlema\, 08280\, Deutschland
CATEGORIES:Kinder, Jugend,Theater, Oper, Musical
ATTACH;FMTTYPE=image/jpeg:https://www.kulturhausaue.de/inhalde/uploads/2023/10/024-1.jpg
END:VEVENT
BEGIN:VEVENT
DTSTART;TZID=Europe/Berlin:20250321T193000
DTEND;TZID=Europe/Berlin:20250321T193000
DTSTAMP:20260420T221138
CREATED:20240301T074908Z
LAST-MODIFIED:20260415T081702Z
UID:10000217-1742585400-1742585400@www.kulturhausaue.de
SUMMARY:„Against the Wind“ - Hohe Berge\, fremde Länder und der Blues
DESCRIPTION:„Against the Wind“\nHohe Berge\, fremde Länder und der Blues\nMultimediashow mit Livemusik von Tino Z & Götz Wiegand \n„Der beste Bergsteiger\, ist derjenige\, der den meisten Spaß hat“ dieses Zitat\, des amerikanischen Bergsteigers Alex Lowe kann man erweitern um den Zusatz: „… und dazu die beste Musik hört.“ Hohe Berge sind wunderschöne\, saukalte und brandgefährliche Orte auf unserem Planeten. Alex Lowe wurde nur 41 Jahre alt\, dann starb er in einer Lawine in der Südwand des Shisha Pangma in Tibet. \nGötz Wiegand hat den Shisha Pangma\, als seinen ersten Achttausender 1994 bestiegen\, überlebt und berichtet darüber nun in seinem neuen Vortrag gemeinsam mit dem Gitarristen und Sänger Tino Z. Bilder von kalter\, manchmal grausamer Schönheit\, lassen sich am besten zur fiebrigen Musik Amerikas genießen. Der Mystik von Country\, Blues und Rock gelingt es\, neue und unerwartete Geheimnisse in den Ansichten hoher Berge und fremder Länder aufzudecken\, in spannende Geschichten einzutauchen und tiefe Sehnsüchte zu wecken. \nDie Musik von Johnny Cash und Kris Kristofferson\, JJ Cale\, Neil Young\, Elmore James und viele anderen verzaubert uns an diesem Abend zusammen mit beeindruckenden Bildern aus harten und zarten\, kalten und heißen\, steilen und flachen Landschaften unserer Erde. Wir begleiten zwei Leben auf ihrem Weg von der Rebellion gegen die Unfreiheit des Ostens\, über Kampf\, Erfolg und Niederlage an großen Bergen in den ersten Jahren der Freiheit\, zu spannenden Reisen nach Afrika und Südamerika bis hinein in eine Gegenwart\, die sich am besten durch den Text eines Songs von Bob Seeger beschreiben lässt: „We‘re older now\, but still runnin‘\, against the Wind.“ \nTickets in Kürze erhältlich!
URL:https://www.kulturhausaue.de/event/up-and-down-hohe-berge-fremde-laender-und-der-rockn-roll/
LOCATION:Kulturhaus Aue\, Goethestr. 2\, Aue-Bad Schlema\, 08280\, Deutschland
CATEGORIES:Lesungen, Vorträge,Sonstiges
ATTACH;FMTTYPE=image/jpeg:https://www.kulturhausaue.de/inhalde/uploads/2024/03/Wiegand.jpg
END:VEVENT
BEGIN:VEVENT
DTSTART;TZID=Europe/Berlin:20250322T193000
DTEND;TZID=Europe/Berlin:20250322T193000
DTSTAMP:20260420T221138
CREATED:20240815T091439Z
LAST-MODIFIED:20240816T072140Z
UID:10000239-1742671800-1742671800@www.kulturhausaue.de
SUMMARY:ONE NIGHT OF MJ - The Tribute to the King of Pop!
DESCRIPTION:ONE NIGHT OF MJ – The Tribute to the King of Pop!\nDie außergewöhnliche Tribute-Show\, die das wahrscheinlich größte Genie der Popmusik feiert: Michael Jackson! Auf Tournee mit Lead-Gitarristin Jennifer Batten und Wendel Gama als Michael. „ONE NIGHT OF MJ“ ist eine rund zweistündige Hommage an die außergewöhnliche Karriere des King of Pop\, Michael Jackson (MJ). Wendel Gama als Michael\, eine fulminante Rock-Band begleitet von Bläsern und Streichern\, eine Dance-Crew mit Original-Choreografien sowie ausgefeilte Special-Effects bringen MJs größte Hits zurück auf die Bühne. Mit dabei: die unvergesslichen Gitarrensoli von Jennifer Batten – die legendäre Gitarristin\, die MJ viele Jahre auf allen großen Tourneen begleitet hat. \n„Billie Jean“\, „Beat it“\, „Bad”\, „Black or White”\, „Man in the Mirror”\, „Smooth Criminal”\, „Thriller” – nicht nur seine unzähligen Nummer-Eins-Hits machten MJ zum unangefochtenen „King of Pop“. Seine Attitüde\, seine exaltierten Musikvideos und seine überbordenden Live-Performances waren eine Klasse für sich und prägten quasi eine eigenständige Kunstform. Das Zusammenspiel aus Gesang\, Musik\, Tanz\, modernster Technik und energiegeladenem Entertainment war wohl bei keinem Künstler je perfekter inszeniert als bei ihm. \n„ONE NIGHT OF MJ“ lässt das Publikum erneut eintauchen in die magische Atmosphäre der außergewöhnlichen MJ-Shows. Die einzigartigen Arrangements werden von der Live-Band originalgetreu zum Leben erweckt. Ein kleines\, aber majestätisches Live-Orchester unterstreicht zusätzlich die Erhabenheit der unvergesslichen Kompositionen. \nWendel Gama aus Brasilien zählt zu den weltweit berühmtesten Michael-Jackson-Imitatoren. Allein auf TikTok folgen ihm über vier Millionen Menschen. Stimmlich kommt kaum jemand dem Original live so nahe. Aber auch jede Bewegung\, jede Geste und jeder Tanzschritt sind eine respektvolle und leidenschaftliche Verbeugung vor dem großen Entertainer Michael Jackson. \nDie legendären Gitarren-Riffs und -Soli können authentischer kaum dargeboten werden als mit Jennifer Batten als Lead-Guitarist. Fast zehn Jahre stand sie für und mit Michael Jackson bei dessen großen Live-Tourneen auf den Bühnen der Welt. 1987 war sie erstmals bei der „Bad World Tour“ dabei\, es folgten die „Dangerous World Tour“ (1992/93) und die „HIStory World Tour“ (1996/97). Allein die letzte Tournee führte sie mit 82 Konzerten in 35 Länder auf fünf Kontinente. \nRückblickend bestätigt Batten: „Die Zeit mit MJ war die beste meines Lebens\, vor allem\, weil ich schon zuvor Fan seiner Musik war.“\nÜber die Show „ONE NIGHT OF MJ“ sagt sie: „Das Publikum liebt seine Musik – aber viele seiner Fans hatten nie die Chance\, Michael live zu erleben. Darum liebe ich diese fantastische Show. Michaels Songs mit Streichern und Trompetern zu interpretieren ist geradezu episch. Michael hätte das bestimmt gefallen. Er war immer bestrebt\, dem Publikum einen Wow-Effekt zu liefern.“\n„ONE NIGHT OF MJ“ ist nicht nur ein musikalisches Live-Spektakel\, sondern eine fantastische Reise durch die magische MJ-Welt – originalgetreu\, energiegeladen\, mitreißend. Die rasante\, laute\, schrille und dabei ebenso emotionale\, ehrliche wie demutsvolle Verbeugung vor einer unvergessenen Ikone. \n>>>> zum Ticketvorkauf
URL:https://www.kulturhausaue.de/event/one-night-of-mj-the-tribute-to-the-king-of-pop/
LOCATION:Kulturhaus Aue\, Goethestr. 2\, Aue-Bad Schlema\, 08280\, Deutschland
CATEGORIES:Konzert,Show, Revue
ATTACH;FMTTYPE=image/jpeg:https://www.kulturhausaue.de/inhalde/uploads/2024/08/mj_tour-149_web-scaled.jpg
END:VEVENT
END:VCALENDAR