BEGIN:VCALENDAR
VERSION:2.0
PRODID:-//Kulturhaus Aue - ECPv6.15.20//NONSGML v1.0//EN
CALSCALE:GREGORIAN
METHOD:PUBLISH
X-WR-CALNAME:Kulturhaus Aue
X-ORIGINAL-URL:https://www.kulturhausaue.de
X-WR-CALDESC:Veranstaltungen für Kulturhaus Aue
REFRESH-INTERVAL;VALUE=DURATION:PT1H
X-Robots-Tag:noindex
X-PUBLISHED-TTL:PT1H
BEGIN:VTIMEZONE
TZID:Europe/Berlin
BEGIN:DAYLIGHT
TZOFFSETFROM:+0100
TZOFFSETTO:+0200
TZNAME:CEST
DTSTART:20250330T010000
END:DAYLIGHT
BEGIN:STANDARD
TZOFFSETFROM:+0200
TZOFFSETTO:+0100
TZNAME:CET
DTSTART:20251026T010000
END:STANDARD
BEGIN:DAYLIGHT
TZOFFSETFROM:+0100
TZOFFSETTO:+0200
TZNAME:CEST
DTSTART:20260329T010000
END:DAYLIGHT
BEGIN:STANDARD
TZOFFSETFROM:+0200
TZOFFSETTO:+0100
TZNAME:CET
DTSTART:20261025T010000
END:STANDARD
BEGIN:DAYLIGHT
TZOFFSETFROM:+0100
TZOFFSETTO:+0200
TZNAME:CEST
DTSTART:20270328T010000
END:DAYLIGHT
BEGIN:STANDARD
TZOFFSETFROM:+0200
TZOFFSETTO:+0100
TZNAME:CET
DTSTART:20271031T010000
END:STANDARD
END:VTIMEZONE
BEGIN:VEVENT
DTSTART;TZID=Europe/Berlin:20260123T200000
DTEND;TZID=Europe/Berlin:20260123T200000
DTSTAMP:20260420T003826
CREATED:20250124T125953Z
LAST-MODIFIED:20250204T081458Z
UID:10000255-1769198400-1769198400@www.kulturhausaue.de
SUMMARY:Kings of Floyd
DESCRIPTION:Wish You Were Here Tour 2025\ncelebrating the 50th anniversary of Wish You Were Here. \nKings Of Floyd: Eine unvergessliche Hommage an Pink Floyd kehrt zurück!\nDie gefeierten Meister der Pink Floyd-Tribute-Band-Szene\, Kings Of Floyd\, sind zurück und bringen erneut das legendäre Erbe der progressiven Rockikonen auf die Bühnen. Mit ihrer unvergleichlichen musikalischen\nBrillanz und einer mitreißenden Live-Performance versprechen sie ein unvergessliches Erlebnis für alle Fans von Pink Floyd. \nKings Of Floyd sind bekannt für ihre atemberaubenden Reproduktionen der zeitlosen Hits von Pink Floyd. Von „Comfortably Numb“ über „Wish You Were Here“ bis hin zu „Another Brick in the Wall“ begeistern sie das\nPublikum. Die Bandmitglieder haben ihre Fähigkeiten und ihre Leidenschaft für Pink Floyds Musik über Jahre hinweg verfeinert und sind heute als eine der besten Pink Floyd-Tribute-Bands weltweit anerkannt.\nMit aufwändigen Bühnenbildern\, faszinierenden Visuals und einer beeindruckenden Lichtshow tauchen Kings Of Floyd das Publikum in die einzigartige Atmosphäre. \nDie Fans können sich auf eine musikalische Reise freuen\, bei der sie in die epischen Klänge und psychedelischen Welten der britischen Rocklegenden eintauchen.\nKings Of Floyd sind nicht nur eine einfache Tribute-Band\, sondern echte Fans von Pink Floyd. Sie nehmen das Erbe der Band ernst und möchten den Geist und die Magie von Pink Floyds Musik für neue Generationen am Leben erhalten. \nDurch ihre außergewöhnliche Darbietung vermitteln sie die einzigartige musikalische Vision von Pink Floyd und lassen die Fans die emotionale Tiefe und den künstlerischen Anspruch der Originalwerke spüren. Die\nbevorstehende Tournee von Kings Of Floyd verspricht eine unvergessliche Zeit für alle Pink Floyd-Fans zu werden. Die Band wird in den renommiertesten Veranstaltungsorten auftreten und ihre musikalische\nMeisterschaft mit den Zuschauern teilen. Seien Sie bereit für eine mitreißende Performance\, die Sie in die goldene Ära des progressiven Rocks zurückversetzt. \nSichern Sie sich jetzt Ihre Tickets und erleben Sie Kings Of Floyd live auf der Bühne! Weitere Informationen zu Tourdaten und Tickets finden Sie auf der offiziellen Website der Band. \n-> zum Ticketverkauf
URL:https://www.kulturhausaue.de/event/kings-of-floyd/
LOCATION:Kulturhaus Aue\, Goethestr. 2\, Aue-Bad Schlema\, 08280\, Deutschland
CATEGORIES:Konzert
ATTACH;FMTTYPE=image/jpeg:https://www.kulturhausaue.de/inhalde/uploads/2025/01/2023-08-24-Sommermusik-Kings-of-floyd-c-Maris-Rietrums-284-Kopie-scaled.jpg
END:VEVENT
END:VCALENDAR