BEGIN:VCALENDAR
VERSION:2.0
PRODID:-//Kulturhaus Aue - ECPv6.15.20//NONSGML v1.0//EN
CALSCALE:GREGORIAN
METHOD:PUBLISH
X-ORIGINAL-URL:https://www.kulturhausaue.de
X-WR-CALDESC:Veranstaltungen für Kulturhaus Aue
REFRESH-INTERVAL;VALUE=DURATION:PT1H
X-Robots-Tag:noindex
X-PUBLISHED-TTL:PT1H
BEGIN:VTIMEZONE
TZID:Europe/Berlin
BEGIN:DAYLIGHT
TZOFFSETFROM:+0100
TZOFFSETTO:+0200
TZNAME:CEST
DTSTART:20250330T010000
END:DAYLIGHT
BEGIN:STANDARD
TZOFFSETFROM:+0200
TZOFFSETTO:+0100
TZNAME:CET
DTSTART:20251026T010000
END:STANDARD
BEGIN:DAYLIGHT
TZOFFSETFROM:+0100
TZOFFSETTO:+0200
TZNAME:CEST
DTSTART:20260329T010000
END:DAYLIGHT
BEGIN:STANDARD
TZOFFSETFROM:+0200
TZOFFSETTO:+0100
TZNAME:CET
DTSTART:20261025T010000
END:STANDARD
BEGIN:DAYLIGHT
TZOFFSETFROM:+0100
TZOFFSETTO:+0200
TZNAME:CEST
DTSTART:20270328T010000
END:DAYLIGHT
BEGIN:STANDARD
TZOFFSETFROM:+0200
TZOFFSETTO:+0100
TZNAME:CET
DTSTART:20271031T010000
END:STANDARD
END:VTIMEZONE
BEGIN:VEVENT
DTSTART;TZID=Europe/Berlin:20261115T160000
DTEND;TZID=Europe/Berlin:20261115T180000
DTSTAMP:20260420T051950
CREATED:20251126T101030Z
LAST-MODIFIED:20251126T101031Z
UID:10000285-1794758400-1794765600@www.kulturhausaue.de
SUMMARY:Ralf Schwan: Die große Tour durch die Pyrenäen
DESCRIPTION:Ralf Schwan – Multimediavortrag\nDie große Tour durch die Pyrenäen\nZu Fuß vom Atlantik zum Mittelmeer \nRund 850 km\, über 45.000 Höhenmeter\, Sonne\, Regen\, Hagel\, Sturm\, Kälte\, Hitze\, Berge\, wilde Wege und das ein oder andere Abenteuer\, sind einige Eckdaten der großen Pyrenäendurchquerung vom Atlantik zum Mittelmeer – GR11 – Transpirenaica.Für Marlis und mich sollte es eine neue Erfahrung werden. Zu zweit durch die Einsamkeit der wilden Pyrenäen. \nAuf unbestimmte Zeit zogen wir auf dem Fernwanderweg\, vom Cap de Higuer am Atlantik\, durch die Hochgebirgslandschaft im Norden Spaniens\, über das kleine Fürstentum Andorra in Richtung Osten zum Cap de Creus am Mittelmeer. Die Expedition wurde zum Abenteuererlebnis mit allem\, was eine solche Tour im Programm haben kann. Steile Bergpfade\, traumhafte unberührte Landschaften\, einsame\, romantische Bergdörfer\, tosende Wasserfälle und Gebirgsbäche ließen die Sinne berauschen. Und da war aber noch das Wetter. Hier durften und mussten wir all das mitnehmen\, was die Wetterküche so parat hat\, Hitze\, Regen\, Gewitterstürme (im Gebirge immer spannend)\, Hochwassersituationen\, Schneefelder\, Hagel\, aber auch Missgeschicke\, wie verlaufen und ewiges Wege suchen\, nichts  blieb uns erspart. Nach 44 Tagen standen wir am Mittelmeer\, dem Cap de Creus\, dem östlichsten Punkt der iberischen Halbinsel. Und es war irgendwie schon eine komische Situation. Die Zeit ist nicht spurlos an uns vorbei gegangen\, der Rücken und die Knie schmerzen\, der Körper ist geschunden und einige Kilogramm Körpergewicht sind verschwunden. \nEgal\, wir sind happy und auch ein wenig Stolz\, aber soll jetzt wirklich Schluß sein?  Was kann noch kommen? Wir müssen das Erlebte erst einmal „sacken“ lassen. \nErleben Sie in meiner Reportage ein spannendes Abenteuer unserer Tour durch die faszinierende Bergwelt der Pyrenäen\, mit schroffen Gipfeln\, tosende Gebirgsbäche und Wasserfällen\, einladende urige Berghütten. Lassen Sie sich von kleinen\, einsamen\, romantischen Bergdörfern und Orten\, sattgrünen Almen\, der Natur und Pflanzenwelt verzaubern und sein Sie dabei beim großen Wanderabenteuer\, durch die wilden Pyrenäen auf dem GR11- Zu Fuß vom Atlantik zum Mittelmeer. \nVorverkauf: 13\,00 €\nTageskasse: 15\,00 € \n-> zum Ticketverkauf \n 
URL:https://www.kulturhausaue.de/event/ralf-schwan-die-grosse-tour-durch-die-pyrenaeen/
LOCATION:Kulturhaus Aue\, Goethestr. 2\, Aue-Bad Schlema\, 08280\, Deutschland
CATEGORIES:Lesungen, Vorträge
ATTACH;FMTTYPE=image/jpeg:https://www.kulturhausaue.de/inhalde/uploads/2025/11/Pyrenaeen_klein-scaled.jpg
END:VEVENT
BEGIN:VEVENT
DTSTART;TZID=Europe/Berlin:20261116T193000
DTEND;TZID=Europe/Berlin:20261116T193000
DTSTAMP:20260420T051950
CREATED:20240709T081423Z
LAST-MODIFIED:20251124T125621Z
UID:10000235-1794857400-1794857400@www.kulturhausaue.de
SUMMARY:Auf eine Currywurst mit Gregor Gysi
DESCRIPTION:GREGOR GYSI\n„Auf eine Currywurst mit Gregor Gysi“\nModeration: Hans-Dieter Schütt \nEin Autobiographischer Blick hinter die Kulissen des Politikbetriebs. Gregor Gysi – so offen und persönlich wie noch nie. \nGregor Gysi erzählt und rezitiert aus „Ein Leben ist zu wenig. Die Autobiographie.“ und stellt seine aktuellen Bücher „Was Politiker nicht sagen…“ und „Auf eine Currywurst mit Gregor Gysi“ vor. In „Was Politiker nicht sagen…“- mit dem treffenden Untertitel „…weil es um Mehrheiten und nicht um Wahrheiten geht!“ – erklärt er\, wie Kommunikation im politischen Betrieb funktioniert\, warum die Abgeordneten nicht nach Professionalität aufgestellt werden\, welche Redezeitbegrenzungen im Bundestag gelten\, warum er sich in Talkshows vor allem an die Zuschauer wendet und weniger an die Mitdiskutanten. \nSeit Jahren begleitet Hans-Dieter Schütt Gregor Gysi auf seinen Buchveranstaltungen\, entstanden sind dabei zahlreiche Gespräche\, die in „Auf eine Currywurst mit Gregor Gysi“ versammelt sind. In den Kurzinterviews am Imbissstand zeigt sich der Rechtsanwalt und Politiker schlagfertig\, lebensklug und so offen und persönlich wie noch nie. Im exklusiven Interview-Buch sprechen Gysi und Schütt über das Reden und das Schweigen\, die Zukunft der Linkspartei und das Bücherschreiben. \nGregor Gysi bietet einen anekdotenreichen Blick hinter die Kulissen des Politikbetriebs und erzählt von seinen zahlreichen Leben als Anwalt\, Politiker\, Autor und Moderator und – nicht zuletzt – als Familienvater. Ein Leben und eine Familiengeschichte\, die von Russland bis Rhodesien führt und in den Gerichtsalltag mit Mördern und Dieben\, zu der ein Lob Lenins und auch die Nobelpreisträgerin Doris Lessing gehören. Durch den Abend führt Moderator Hans-Dieter Schütt\, an dem auch aktuell politische Themen nicht zu kurz kommen. \n>>> zum Ticketverkauf  \nGregor Gysi\, geboren 1948\, Rechtsanwalt und Politiker. Vertrat als Rechtsanwalt u. a. Robert Havemann\, Rudolf Bahro und andere Regimekritiker. 1989-1992 Parteivorsitzender der PDS. 1990-202 und 2005-2015 Fraktionsvorsitzender der PDS und der Partei die Linke. MdB ist er weiterhin. Von Dezember 2016 – Dezember 2019 Präsident der Partei der Europäischen Linken. 2020 wurde er zum außenpolitischen Sprecher der Fraktion Die Linke im Bundestag ernannt und legte sein Amt im September 2023 nieder. \nWie kaum ein anderer deutscher Politiker\, wurde Gregor Gysi von seinen politischen Widersachern geschmäht und beschimpft. Und kaum einer schlug so klug\, zielsicher und erfolgreich durch das dichte Gestrüpp der Anfeindungen zurück\, wie er: Gregor Gysi. Heute zählt er zu den beliebtesten Politikern Deutschlands\, und zwar über alle Parteigrenzen hinweg. Gregor Gysi hat linkes Denken geprägt\, wurde zu einem seiner wichtigsten Protagonisten\, erlangte anerkannte Prominenz. Seine Autobiografie ist ein Geschichts- und Geschichtenbuch\, das die Erschütterungen und Extreme\, die Entwürfe und Enttäuschungen des 20. Jahrhunderts auf sehr persönliche Weise widerspiegelt und erlebbar macht. Gregor Gysi erzählt von seiner Kindheit und Jugend\, schildert seinen Weg zum Rechtsanwalt\, gibt Einblicke in sein Verhältnis zu Dissidenten und in die Spannungsfelder an der Spitze von Partei und Bundestagsfraktion. Vor allem aber berichtet er von der erstaunlichen Wendung\, die sein Leben seit den historischen Ereignissen im Herbst 1989 nahm. Der Jurist wird Politiker: „Einfach wegrennen\, das wollte ich nie“\, sagt Gysi und trifft damit einen Kern seines Wesens: Widersprüche aushalten! \nHans-Dieter Schütt\, 1948 in Ohrdruf geboren\, Studium der Theaterwissenschaften in Leipzig\, war in der DDR Redakteur und Chefredakteur der Tageszeitung „Junge Welt“. Er veröffentlichte zahlreiche Essays\, Biographien und Interviewbücher. U.a. wirkte er an der Autobiographie von Gregor Gysi „Ein Leben ist zu wenig“\, dem Buch „Was Politiker nicht sagen“ und „Auf eine Currywurst mit Gregor Gysi“ mit.
URL:https://www.kulturhausaue.de/event/auf-eine-currywurst-mit-gregor-gysi/
LOCATION:Kulturhaus Aue\, Goethestr. 2\, Aue-Bad Schlema\, 08280\, Deutschland
CATEGORIES:Lesungen, Vorträge,Sonstiges
ATTACH;FMTTYPE=image/jpeg:https://www.kulturhausaue.de/inhalde/uploads/2024/07/Gregor_Gysi_Dr_klein_Foto_-Inga-Haar_klein.jpg
END:VEVENT
BEGIN:VEVENT
DTSTART;TZID=Europe/Berlin:20261128T143000
DTEND;TZID=Europe/Berlin:20261128T143000
DTSTAMP:20260420T051950
CREATED:20220614T103516Z
LAST-MODIFIED:20260303T105050Z
UID:10000083-1795876200-1795876200@www.kulturhausaue.de
SUMMARY:Blema-Chor - Jubiläumskonzert
DESCRIPTION:Am 28. November 2026 findet im Kulturhaus Aue im großen Saal unser Galakonzert 80 Jahre Blema-Chor Aue statt. \nEs wird ein buntes Programm mit Weihnachtsliedern\, Lieblingsliedern und neuen Liedern geben. Wir haben uns viele Gäste eingeladen und es wird so manche Überraschung geben. Natürlich findet wieder ein kleiner Weihnachtsmarkt im Foyer statt. Im kleinen Foyer wird es eine Ausstellung geben\, denn ein Chor der sein 80 jähriges Bestehen feiert\, hat natürlich viel Interessantes gesammelt. \n>>> zum Ticketshop 
URL:https://www.kulturhausaue.de/event/blema-chor-gerhard-hirsch-jubilaeum-weihnachtskonzert/
LOCATION:Kulturhaus Aue\, Goethestr. 2\, Aue-Bad Schlema\, 08280\, Deutschland
CATEGORIES:Konzert,Schlager, Volksmusik, Tradition
ATTACH;FMTTYPE=image/jpeg:https://www.kulturhausaue.de/inhalde/uploads/2022/06/1000245095_klein.jpg
END:VEVENT
END:VCALENDAR