BEGIN:VCALENDAR
VERSION:2.0
PRODID:-//Kulturhaus Aue - ECPv6.15.20//NONSGML v1.0//EN
CALSCALE:GREGORIAN
METHOD:PUBLISH
X-ORIGINAL-URL:https://www.kulturhausaue.de
X-WR-CALDESC:Veranstaltungen für Kulturhaus Aue
REFRESH-INTERVAL;VALUE=DURATION:PT1H
X-Robots-Tag:noindex
X-PUBLISHED-TTL:PT1H
BEGIN:VTIMEZONE
TZID:Europe/Berlin
BEGIN:DAYLIGHT
TZOFFSETFROM:+0100
TZOFFSETTO:+0200
TZNAME:CEST
DTSTART:20250330T010000
END:DAYLIGHT
BEGIN:STANDARD
TZOFFSETFROM:+0200
TZOFFSETTO:+0100
TZNAME:CET
DTSTART:20251026T010000
END:STANDARD
BEGIN:DAYLIGHT
TZOFFSETFROM:+0100
TZOFFSETTO:+0200
TZNAME:CEST
DTSTART:20260329T010000
END:DAYLIGHT
BEGIN:STANDARD
TZOFFSETFROM:+0200
TZOFFSETTO:+0100
TZNAME:CET
DTSTART:20261025T010000
END:STANDARD
BEGIN:DAYLIGHT
TZOFFSETFROM:+0100
TZOFFSETTO:+0200
TZNAME:CEST
DTSTART:20270328T010000
END:DAYLIGHT
BEGIN:STANDARD
TZOFFSETFROM:+0200
TZOFFSETTO:+0100
TZNAME:CET
DTSTART:20271031T010000
END:STANDARD
END:VTIMEZONE
BEGIN:VEVENT
DTSTART;TZID=Europe/Berlin:20260206T000000
DTEND;TZID=Europe/Berlin:20260630T000000
DTSTAMP:20260425T050136
CREATED:20250208T130628Z
LAST-MODIFIED:20260205T165742Z
UID:10000256-1770336000-1782777600@www.kulturhausaue.de
SUMMARY:Lifelines – Die Kunstausstellung der PARIO ART GALLERY
DESCRIPTION:Lifelines – Die Kunstausstellung der PARIO ART GALLERY06.02.2026 – 30.06.2026 | Galerie Art Aue\, Kulturhaus Aue \nWillkommen in der Welt der PARIO ART GALLERY – Ihrem exklusiven Ort für zeitgenössische und internationale Kunst. Mit der Ausstellung „Lifelines“ präsentieren wir ab sofort in der Galerie Art Aue im Kulturhaus Aue eine facettenreiche Kunstmesse\, die kreative Verbindungen\, persönliche Lebenslinien und künstlerische Ausdrucksformen sichtbar macht. \nDie Ausstellung vereint Werke internationaler Künstlerinnen und Künstler und lädt dazu ein\, unterschiedliche Perspektiven\, Stile und Themen zu entdecken. „Lifelines“ steht für Bewegung\, Entwicklung und emotionale Tiefe – für Kunst\, die berührt und nachwirkt. \nKunst besitzt die Kraft\, Räume zu verwandeln und ihnen eine unverwechselbare Atmosphäre zu verleihen. In der PARIO ART GALLERY zeigen wir\, wie Kunst Wohn- und Lebensräume bereichern kann – individuell\, inspirierend und authentisch. Von modernen bis hin zu klassisch geprägten Arbeiten finden Sie hier eine Vielfalt an hochwertigen\, originalen Kunstwerken\, die sich harmonisch in unterschiedliche Einrichtungsstile einfügen und Ihre Persönlichkeit widerspiegeln. \nMario Meier\, auch bekannt als Pario Art\, ist Gründer\, Künstler und Inhaber der PARIO ART GALLERY. Mit großer Leidenschaft für Kunst und einem feinen Gespür für Qualität bringt er Künstlerinnen und Künstler zusammen und schafft Räume für Begegnung\, Inspiration und Austausch. \nKünstler & Organisator:Mario Meier (Pario Art)\, Hundshübel \nAusstellende Künstlerinnen und Künstler:Mario Meier (Deutschland) Olha Hovtvian (Spanien)Claudia Krutschinski-Braniek (Deutschland)Dr. Anne-Catherine Zajonz (Deutschland)Ólè Mámmùt (Deutschland)Polina Gazhur (Österreich) \nWir freuen uns auf Ihren Besuch in der Galerie Art Aue. \nÖffnungszeiten Galerie:\nDi – Do 8:00 – 18:00 Uhr und zu den Veranstaltungen
URL:https://www.kulturhausaue.de/event/cartoon-spass-mit-stephan-busse/
LOCATION:Kulturhaus Aue\, Goethestr. 2\, Aue-Bad Schlema\, 08280\, Deutschland
CATEGORIES:Ausstellung
ATTACH;FMTTYPE=image/jpeg:https://www.kulturhausaue.de/inhalde/uploads/2025/02/Lifeliners.jpg
END:VEVENT
BEGIN:VEVENT
DTSTART;TZID=Europe/Berlin:20260426T160000
DTEND;TZID=Europe/Berlin:20260426T160000
DTSTAMP:20260425T050136
CREATED:20251013T112002Z
LAST-MODIFIED:20251013T113204Z
UID:10000279-1777219200-1777219200@www.kulturhausaue.de
SUMMARY:DIE PALDAUER - Bis ans Ende der Welt
DESCRIPTION:DIE PALDAUER – Bis ans Ende der Welt\n„Die Band mit Herzlichkeit“ \nAue. DIE PALDAUER zählen seit Jahrzehnten zu den erfolgreichsten Schlagerbands in Europa! Mit ihren eigenen Ideen und einzigartigen Bühnenshows waren sie immer Vorreiter in der Branche und wurden dabei mehrfach kopiert! Sie kommen nun im Rahmen ihrer erfolgreichen Solotournee jetzt das erste Mal in das Kulturhaus hier in Aue. Am Sonntag\, 26.04.26 ist es soweit! \nDIE PALDAUER sind sich selbst und ihren Fans immer treu geblieben – keine Starallüren\, keine Überheblichkeiten! Über 40 Jahre Erfolg sind daher kein Zufall! Im Zeitalter\, in dem nur mehr Gigantismus zählt\, und jeder Künstler den anderen mit noch mehr Lichteffekten und Aufwand übertrumpfen möchte\, bieten DIE PALDAUER ein außergewöhnliches Konzert\, bei dem wieder die Lieder und die Künstler im Vordergrund stehen – genauso wie sich das die wahren Schlagerfans wünschen. \nGenießen Sie Lieder aus der Anfangszeit der Band DIE PALDAUER wie „Tanz mit mir Corina“\, „Düsseldorfer Girl“\, „Ich muss dich wiedersehen“\, „3000 Jahre‘‘ bis hin zum aktuellen Hit \,\,Bis ans Ende der Welt‘‘ und natürlich einige außergewöhnliche musikalische Überraschungen in einer einzigartigen rundum herzlich familiären Atmosphäre. Keine Effekthascherei\, sondern nur pure Musik im einzigartigen PALDAUER-Sound. \nDIE PALDAUER muss man unbedingt live erleben\, denn sie sind mehr als eine Schlagerband. Lassen Sie sich überraschen! Ihre Konzerte sind ein absolutes Muss für jeden Schlagerfan – absolut genial und authentisch. Es darf auch getanzt werden. \nDa geht keiner betrübt nach Hause – im Gegenteil. Die meisten Fans warten und fiebern bereits auf das nächste Konzert hin. Bandleader Franz Griesbacher führt wie immer gekonnt und mit Witz durch den kurzweiligen Abend. \nKommen Sie vorbei und lassen Sie sich anstecken von diesem großartigen Flair. Vergessen Sie Ihre Alltagssorgen\, genießen Sie die exklusive „PALDAUER – Schlager Stimmung“ auf musikalisch sehr hohem Niveau! \nSichern Sie sich jetzt bereits Ihre Karte im Vorverkauf für dieses einmalige Musik-Ereignis. \n-> zum Ticketverkauf  \nBeginn: 16:00 Uhr\nEinlass: 15:30 Uhr \n1. PK: Normalpreis: 56\,90 €\n2. PK: Normalpreis: 53\,90 €
URL:https://www.kulturhausaue.de/event/die-paldauer-bis-ans-ende-der-welt/
LOCATION:Kulturhaus Aue\, Goethestr. 2\, Aue-Bad Schlema\, 08280\, Deutschland
CATEGORIES:Konzert,Schlager, Volksmusik, Tradition,Show, Revue
ATTACH;FMTTYPE=image/jpeg:https://www.kulturhausaue.de/inhalde/uploads/2025/10/Webvorlage-Paldauer-Bis-ans-Ende-der-Welt-2025_web.jpg
END:VEVENT
END:VCALENDAR